BEGIN:VCALENDAR
VERSION:2.0
PRODID:spatie/icalendar-generator
DESCRIPTION:Events from ZBOKSS
X-WR-CALDESC:Events from ZBOKSS
REFRESH-INTERVAL;VALUE=DURATION:PT1440M
X-PUBLISHED-TTL:PT1440M
BEGIN:VTIMEZONE
TZID:Europe/Ljubljana
BEGIN:STANDARD
DTSTART:20251026T030000Z
TZOFFSETFROM:+0200
TZOFFSETTO:+0100
END:STANDARD
BEGIN:DAYLIGHT
DTSTART:20260329T020000Z
TZOFFSETFROM:+0100
TZOFFSETTO:+0200
END:DAYLIGHT
BEGIN:STANDARD
DTSTART:20261025T030000Z
TZOFFSETFROM:+0200
TZOFFSETTO:+0100
END:STANDARD
END:VTIMEZONE
BEGIN:VTIMEZONE
TZID:UTC
BEGIN:STANDARD
DTSTART:20250725T184403Z
TZOFFSETFROM:+0000
TZOFFSETTO:+0000
END:STANDARD
END:VTIMEZONE
BEGIN:VEVENT
UID:120-103
DTSTAMP:20260421T184403Z
SUMMARY:ŠMARNIČNO ROMANJE ODRASLIH SKAVTOV 2026
LOCATION:
ORGANIZER;CN=zbokssadmin:MAILTO:info@zbokss.si
DTSTART;TZID=Europe/Ljubljana:20260509T084500
DTEND;TZID=Europe/Ljubljana:20260509T160000
X-ALT-DESC;FMTTYPE=TEXT/HTML:“Marija\, ti si naša mati in mi smo celi tv
 oji” več informacij - TUKAJ
CATEGORIES:Dogodki ZBOKSS
URL;VALUE=URI:https://zbokss.si/dogodki/smarnicno-romanje-odraslih-skavtov-
 2026/
METHOD:PUBLISH
END:VEVENT
END:VCALENDAR