BEGIN:VCALENDAR
VERSION:2.0
PRODID:spatie/icalendar-generator
DESCRIPTION:Events from ZBOKSS
X-WR-CALDESC:Events from ZBOKSS
REFRESH-INTERVAL;VALUE=DURATION:PT1440M
X-PUBLISHED-TTL:PT1440M
BEGIN:VTIMEZONE
TZID:Europe/Ljubljana
BEGIN:DAYLIGHT
DTSTART:20240331T020000Z
TZOFFSETFROM:+0100
TZOFFSETTO:+0200
END:DAYLIGHT
BEGIN:STANDARD
DTSTART:20241027T030000Z
TZOFFSETFROM:+0200
TZOFFSETTO:+0100
END:STANDARD
BEGIN:DAYLIGHT
DTSTART:20250330T020000Z
TZOFFSETFROM:+0100
TZOFFSETTO:+0200
END:DAYLIGHT
END:VTIMEZONE
BEGIN:VTIMEZONE
TZID:UTC
BEGIN:STANDARD
DTSTART:20250724T082436Z
TZOFFSETFROM:+0000
TZOFFSETTO:+0000
END:STANDARD
END:VTIMEZONE
BEGIN:VEVENT
UID:62-59
DTSTAMP:20260420T082436Z
SUMMARY:ASSISI 2024
LOCATION:
ORGANIZER;CN=zbokssadmin:MAILTO:info@zbokss.si
DTSTART;TZID=Europe/Ljubljana;VALUE=DATE:20241026
DTEND;TZID=Europe/Ljubljana;VALUE=DATE:20241031
X-ALT-DESC;FMTTYPE=TEXT/HTML:<p>Bliža se naše romanje v Assisi\, predvid
 en datum je od 26. do 30. oktobra 2024</p>\n
CATEGORIES:Dogodki ZBOKSS
URL;VALUE=URI:https://zbokss.si/dogodki/assisi-2024/
METHOD:PUBLISH
END:VEVENT
END:VCALENDAR